BEGIN:VCALENDAR
VERSION:2.0
CALSCALE:GREGORIAN
PRODID:adamgibbons/ics
METHOD:PUBLISH
X-PUBLISHED-TTL:PT1H
BEGIN:VEVENT
UID:12@www.ragenda.info
SUMMARY:créer un évènement - user - normal
DTSTAMP:20260423T142239Z
DTSTART:20260323T000000Z
DTEND:20260323T110000Z
DESCRIPTION:TEST H1\n\nvbfueijnk\,lmfdvjbinrofkd\,l\n\n\nVNFRIONVFLD\n\n * 
	vfjrbnkv\,\n\n * vjfinkd\,l\n\n * vfnkd\,lmc\n\n * vbufnlk\n\n\n\n> vfhbdj
	cnoksl\,m
URL:https://www.ragenda.info/event/creer-un-evenement-user-normal
GEO:43.2946;5.37414
LOCATION:Ombrière du Vieux Port - Quai de la Fraternité\, Hôtel de Ville\, 
	Marseille 2e Arrondissement\, Marseille\, Bouches-du-Rhône\, Provence-Alpe
	s-Côte d'Azur\, France métropolitaine\, 13002\, France
STATUS:CONFIRMED
CATEGORIES:
X-ALT-DESC;FMTTYPE=text/html:<h1>test h1</h1><p>vbfueijnk,lmfdvjbinrofkd,l<
	/p><h2>vnfrionvfld</h2><ul><li><p>v<u>fjrbnkv,</u></p></li><li><p><strong>
	vjfinkd,l</strong></p></li><li><p><s>vfnkd,lmc</s></p></li><li><p><em>vbuf
	nlk</em></p></li></ul><p></p><blockquote><p>vfhbdjcnoksl,m</p></blockquote
	>
BEGIN:VALARM
ACTION:DISPLAY
DESCRIPTION:créer un évènement - user - normal
TRIGGER:-PT1H
END:VALARM
END:VEVENT
END:VCALENDAR
