BEGIN:VCALENDAR
VERSION:2.0
CALSCALE:GREGORIAN
PRODID:adamgibbons/ics
METHOD:PUBLISH
X-PUBLISHED-TTL:PT1H
BEGIN:VEVENT
UID:9@www.ragenda.info
SUMMARY:Créer un événement
DTSTAMP:20260423T142129Z
DTSTART:20260304T230000Z
DTEND:20260305T050000Z
DESCRIPTION:Créer un événement
URL:https://www.ragenda.info/event/creer-un-evenement
GEO:43.2951;5.38656
LOCATION:La Plaine - Place Jean Jaurès\, 13001 Marseille
STATUS:CONFIRMED
CATEGORIES:Tractage
X-ALT-DESC;FMTTYPE=text/html:<p>Créer un événement</p>
BEGIN:VALARM
ACTION:DISPLAY
DESCRIPTION:Créer un événement
TRIGGER:-PT1H
END:VALARM
END:VEVENT
END:VCALENDAR
