BEGIN:VCALENDAR
VERSION:2.0
CALSCALE:GREGORIAN
PRODID:adamgibbons/ics
METHOD:PUBLISH
X-PUBLISHED-TTL:PT1H
BEGIN:VEVENT
UID:14@www.ragenda.info
SUMMARY:Créer un festival - Admin
DTSTAMP:20260425T105238Z
DTSTART:20260403T100000Z
DTEND:20260407T210000Z
DESCRIPTION:Gros festoch ouaaaaaaai rave on
URL:https://www.ragenda.info/event/creer-un-festival-admin
GEO:43.306;5.3975
LOCATION:Parc Longchamp - 32\, Marseille 4e Arrondissement\, Marseille\, Bo
	uches-du-Rhône\, Provence-Alpes-Côte d'Azur\, France métropolitaine\, 1300
	4\, France
STATUS:CONFIRMED
CATEGORIES:
X-ALT-DESC;FMTTYPE=text/html:<p>Gros festoch ouaaaaaaai rave on</p>
BEGIN:VALARM
ACTION:DISPLAY
DESCRIPTION:Créer un festival - Admin
TRIGGER:-PT1H
END:VALARM
END:VEVENT
END:VCALENDAR
