BEGIN:VCALENDAR
VERSION:2.0
CALSCALE:GREGORIAN
PRODID:adamgibbons/ics
METHOD:PUBLISH
X-PUBLISHED-TTL:PT1H
BEGIN:VEVENT
UID:13@www.ragenda.info
SUMMARY:Créer un festival - user
DTSTAMP:20260423T142620Z
DTSTART:20260327T170000Z
DTEND:20260328T230000Z
DESCRIPTION:cbijkdnof [https://www.ragenda.info]
URL:https://www.ragenda.info/event/creer-un-festival-user
GEO:43.3103;5.4013
LOCATION:La Base - La Base Marseille\, Place Edmond Audran\, Les Chartreux\
	, Marseille 4e Arrondissement\, Marseille\, Bouches-du-Rhône\, Provence-Al
	pes-Côte d'Azur\, France métropolitaine\, 13004\, France
STATUS:CONFIRMED
CATEGORIES:Festival
X-ALT-DESC;FMTTYPE=text/html:<p><a href="https://www.ragenda.info" target="
	_blank">cbijkdnof</a></p>
BEGIN:VALARM
ACTION:DISPLAY
DESCRIPTION:Créer un festival - user
TRIGGER:-PT1H
END:VALARM
END:VEVENT
END:VCALENDAR
