BEGIN:VCALENDAR
VERSION:2.0
CALSCALE:GREGORIAN
PRODID:adamgibbons/ics
METHOD:PUBLISH
X-PUBLISHED-TTL:PT1H
BEGIN:VEVENT
UID:10@www.ragenda.info
SUMMARY:Crochet antifa
DTSTAMP:20260423T142239Z
DTSTART:20260202T180000Z
DTEND:20260202T200000Z
DESCRIPTION:Créer un évènement récurrent
URL:https://www.ragenda.info/event/crochet-antifa
GEO:43.3001;5.38318
LOCATION:chez moi - 31\, Rue Saint-Bazile\, 13001
STATUS:CONFIRMED
CATEGORIES:Antifasciste,atelier,crochet
X-ALT-DESC;FMTTYPE=text/html:<p>Créer un évènement récurrent</p>
BEGIN:VALARM
ACTION:DISPLAY
DESCRIPTION:Crochet antifa
TRIGGER:-PT1H
END:VALARM
END:VEVENT
END:VCALENDAR
