BEGIN:VCALENDAR
VERSION:2.0
CALSCALE:GREGORIAN
PRODID:adamgibbons/ics
METHOD:PUBLISH
X-PUBLISHED-TTL:PT1H
BEGIN:VEVENT
UID:20@www.ragenda.info
SUMMARY:Test again
DTSTAMP:20260423T141839Z
DTSTART:20260330T080000Z
URL:https://www.ragenda.info/event/test-again
GEO:43.306;5.3975
LOCATION:Parc Longchamp - 32\, Marseille 4e Arrondissement\, Marseille\, Bo
	uches-du-Rhône\, Provence-Alpes-Côte d'Azur\, France métropolitaine\, 1300
	4\, France
STATUS:CONFIRMED
CATEGORIES:
BEGIN:VALARM
ACTION:DISPLAY
DESCRIPTION:Test again
TRIGGER:-PT1H
END:VALARM
END:VEVENT
END:VCALENDAR
