BEGIN:VCALENDAR
VERSION:2.0
CALSCALE:GREGORIAN
PRODID:adamgibbons/ics
METHOD:PUBLISH
X-PUBLISHED-TTL:PT1H
BEGIN:VEVENT
UID:23@www.ragenda.info
SUMMARY:Crochet antifa
DTSTAMP:20260423T071209Z
DTSTART:20260427T170000Z
DTEND:20260427T190000Z
DESCRIPTION:Créer un évènement récurrent
URL:https://www.ragenda.info/event/crochet-antifa-3
LOCATION:chez moi - 31\, Rue Saint-Bazile\, 13001
STATUS:CONFIRMED
CATEGORIES:Antifasciste,atelier,crochet
X-ALT-DESC;FMTTYPE=text/html:<p>Créer un évènement récurrent</p>
END:VEVENT
END:VCALENDAR
